BEGIN:VCALENDAR
VERSION:2.0
PRODID:-//MISpa - ECPv6.15.20//NONSGML v1.0//EN
CALSCALE:GREGORIAN
METHOD:PUBLISH
X-WR-CALNAME:MISpa
X-ORIGINAL-URL:https://themispa.org
X-WR-CALDESC:Events for MISpa
REFRESH-INTERVAL;VALUE=DURATION:PT1H
X-Robots-Tag:noindex
X-PUBLISHED-TTL:PT1H
BEGIN:VTIMEZONE
TZID:UTC
BEGIN:STANDARD
TZOFFSETFROM:+0000
TZOFFSETTO:+0000
TZNAME:UTC
DTSTART:20230101T000000
END:STANDARD
END:VTIMEZONE
BEGIN:VEVENT
DTSTART;TZID=UTC:20240821T120000
DTEND;TZID=UTC:20240821T130000
DTSTAMP:20260421T114409
CREATED:20240617T151501Z
LAST-MODIFIED:20240617T151501Z
UID:560-1724241600-1724245200@themispa.org
SUMMARY:August 2024 Lunch & Learn: Transform Your Life with NuCalm
DESCRIPTION:Are you ready to revolutionize your well-being? Join us for an extraordinary Lunch & Learn event where we delve into the transformative power of NuCalm\, the ultimate solution for stress\, sleep\, and overall well-being. This is not just another wellness talk; it’s your gateway to a life of serenity and peak mental performance. \nSpecial Guest: Jim Poole\, CEO & President of NuCalm \nDiscover the cutting-edge technology that’s changing lives worldwide. NuCalm is the brainchild of Dr. Blake Holloway\, who embarked on a mission over 30 years ago to help people with acute PTSD without the use of narcotics. His relentless research and development have culminated in a breakthrough neuroacoustic software that safely guides your brain waves through various frequencies\, from peak mental states to deep\, restorative sleep. \nWhat to Expect: \n\nInsightful Presentation: Learn about the science and story behind NuCalm from Jim Poole\, a visionary leader in the field of neuroacoustic technology.\nLive Demonstration: Experience firsthand how NuCalm can effortlessly transition your brain state\, enhancing focus\, reducing stress\, and improving sleep.\nInteractive Q&A: Engage with Jim Poole and get your questions answered about this revolutionary approach to mental wellness.\nNetworking Opportunity: Connect with like-minded individuals who are passionate about mental health and well-being.\n\nNuCalm’s patented\, clinically-proven technology is all-natural\, non-invasive\, and incredibly easy to use. Whether you’re looking to boost your mental clarity\, manage stress more effectively\, or achieve better sleep\, NuCalm is your reliable partner on this journey. \nDon’t miss this chance to transform your life with NuCalm. Reserve your spot now for an hour that promises to enlighten\, inspire\, and empower you. \nUse the link below to RSVP
URL:https://themispa.org/event/august-2024-lunch-learn-transform-your-life-with-nucalm/
LOCATION:Virtual
CATEGORIES:Virtual
END:VEVENT
BEGIN:VEVENT
DTSTART;TZID=UTC:20240612T120000
DTEND;TZID=UTC:20240612T130000
DTSTAMP:20260421T114409
CREATED:20240617T140810Z
LAST-MODIFIED:20240617T140810Z
UID:556-1718193600-1718197200@themispa.org
SUMMARY:June 2024 Lunch & Learn
DESCRIPTION:Join the Michigan MedSpa Association for our June Lunch & Learn virtual event: “Unlocking the Power of Exosomes: Exploring Benefits & Business Applications.” Hosted by Nicole Gregory\, this session features expert panelists discussing the future of exosomes and their remarkable benefits for both patients and businesses. Don’t miss out on this insightful event that promises to enhance your practice and patient care! \nMake sure to RSVP to secure your spot! Limited Spots Available!
URL:https://themispa.org/event/june-2024-lunch-learn/
LOCATION:Virtual
CATEGORIES:Virtual
ATTACH;FMTTYPE=image/png:https://themispa.org/wp-content/uploads/2024/06/F6437AE6-5330-44B2-A9C5-33786ADB2080-2.png
END:VEVENT
END:VCALENDAR